BEGIN:VCALENDAR
VERSION:2.0
PRODID:-//hacksw/handcal//NONSGML v1.0//EN
BEGIN:VEVENT
SUMMARY:USVG 2 /USSE
UID:2aa8308a-a642-4e1d-ad55-33aa84559e0e
DTSTART:20260425T150000Z
DTEND:20260425T220000Z
LOCATION:Localisation   
CATEGORIES:Sportif
STATUS:
URL;VALUE=URI:https://www.us-valleedelagresse.com/evenements/2026/04/25/usvg-2-usse-2443705
END:VEVENT
END:VCALENDAR
